BEGIN:VCALENDAR
VERSION:2.0
PRODID:-//Terre de Beauté - ECPv6.15.17.1//NONSGML v1.0//EN
CALSCALE:GREGORIAN
METHOD:PUBLISH
X-WR-CALNAME:Terre de Beauté
X-ORIGINAL-URL:https://terredebeaute-virginie.fr
X-WR-CALDESC:Évènements pour Terre de Beauté
REFRESH-INTERVAL;VALUE=DURATION:PT1H
X-Robots-Tag:noindex
X-PUBLISHED-TTL:PT1H
BEGIN:VTIMEZONE
TZID:Europe/Paris
BEGIN:DAYLIGHT
TZOFFSETFROM:+0100
TZOFFSETTO:+0200
TZNAME:CEST
DTSTART:20250330T010000
END:DAYLIGHT
BEGIN:STANDARD
TZOFFSETFROM:+0200
TZOFFSETTO:+0100
TZNAME:CET
DTSTART:20251026T010000
END:STANDARD
BEGIN:DAYLIGHT
TZOFFSETFROM:+0100
TZOFFSETTO:+0200
TZNAME:CEST
DTSTART:20260329T010000
END:DAYLIGHT
BEGIN:STANDARD
TZOFFSETFROM:+0200
TZOFFSETTO:+0100
TZNAME:CET
DTSTART:20261025T010000
END:STANDARD
BEGIN:DAYLIGHT
TZOFFSETFROM:+0100
TZOFFSETTO:+0200
TZNAME:CEST
DTSTART:20270328T010000
END:DAYLIGHT
BEGIN:STANDARD
TZOFFSETFROM:+0200
TZOFFSETTO:+0100
TZNAME:CET
DTSTART:20271031T010000
END:STANDARD
END:VTIMEZONE
BEGIN:VEVENT
DTSTART;TZID=Europe/Paris:20260421T190000
DTEND;TZID=Europe/Paris:20260421T220000
DTSTAMP:20260421T195748
CREATED:20260311T131644Z
LAST-MODIFIED:20260311T131644Z
UID:969-1776798000-1776808800@terredebeaute-virginie.fr
SUMMARY:Atelier Cartes: Ouvrir et agrandir sa clairvoyance
DESCRIPTION:Vendredi 13 Mars à 19h VillazOUVRIR sa CLAIRVOYANCE à travers mes cartes…Lors de cet atelier \, vous allez plonger dans votre Es-Sens. Vous allez ouvrir les portes de vos ressentis\, en écoutant votre Âme vous parler à travers votre Cœur. À travers cet atelier\, votre clairvoyance s’autorisera à rayonner… il est temps d’entendre ses messages  osez enfin dissiper vos doutes\, ayez foi en vos ressentis\, en vous Ce moment se réalisera autour de plusieurs partages et de toute la bienveillance de chaque participant.Je vous propose de découvrir ou approfondir vos ressentis grâce à plusieurs jeux de cartes que j’ai créé\, la présence de cet atelier est de vous montrer que votre Âme parle… il suffit de se poser et de l’écouter. Il s’agit de mettre en avant nos propres ressentis\, pour se faire confiance et laisser le mental en dehors de la place du cœur . Notre Âme parle à travers lui\, ouvrons encore plus grand cette même porte. Cet atelier consiste à « oser » exprimer ses ressentis\, chaque perception est unique et sera toujours « juste »\, exprimée avec son cœur.\nTARIF : 50€apéro et gourmandises en commun pour un meilleur moment
URL:https://terredebeaute-virginie.fr/event/atelier-cartes-ouvrir-et-agrandir-sa-clairvoyance-2/
LOCATION:Terre de Beauté\, 246 route des grands bois\, Villaz\, 74370\, France
CATEGORIES:Atelier,Clairvoyance
ATTACH;FMTTYPE=image/png:https://terredebeaute-virginie.fr/wp-content/uploads/2025/01/Clairvoyance1.png
END:VEVENT
END:VCALENDAR